Workbook

Sheet Projects Register
A1: Κωδικός πρότασης | B1: Έργο / Αλλαγή / Σύστημα προς υλοποίηση | C1: Εξαρτάται από - (αναφέρατε κωδικό πρότασης) | D1: Κατάλογος παραγόντων που σχετίζονται με τον επείγοντα χαρακτήρα της υλοποίησης | E1: Τιμή για το Επείγον | F1: Κατάλογος παραγόντων που σχετίζονται με την (θετική ή αρνητική) επίπτωση της υλοποίησης | G1: Τιμή για την Επίπτωση | H1: Αρχική αξιολόγηση προτεραιότητας | I1: Τελική αξιολόγηση προτεραιόητητας | J1: Υπεύθυνος υλοποίησης | K1: Χρονοδιάγραμμα υλοποίησης | L1: Σημειώσεις
H2: =E2*G2 -> 0
H3: =E3*G3 -> 0
H4: =E4*G4 -> 0
H5: =E5*G5 -> 0
H6: =E6*G6 -> 0
H7: =E7*G7 -> 0
H8: =E8*G8 -> 0
H9: =E9*G9 -> 0
H10: =E10*G10 -> 0
H11: =E11*G11 -> 0
H12: =E12*G12 -> 0
H13: =E13*G13 -> 0
... H20: =E20*G20 -> 0
C21: This Project has been funded with support from the European Commission. The European Commission support for the production of this publication does not constitute an endorsement of the contents which reflects the views only of the authors, and the Commission cannot be held responsible for any use which may be made of the information contained therein.

Sheet Risk Matrix
A2: Urgency | B2: 4 | C2: {=stringconcat(",",IF('Projects Register'!#REF!=4,IF('Projects Register'!#REF!=1,'Projects Register'!$A$2:$A$981,""),""))} -> #NAME? | D2: {=stringconcat(",",IF('Projects Register'!#REF!=4,IF('Projects Register'!#REF!=2,'Projects Register'!$A$2:$A$981,""),""))} -> #NAME? | E2: {=stringconcat(",",IF('Projects Register'!#REF!=4,IF('Projects Register'!#REF!=3,'Projects Register'!$A$2:$A$981,""),""))} -> #NAME? | F2: {=stringconcat(",",IF('Projects Register'!#REF!=4,IF('Projects Register'!#REF!=4,'Projects Register'!$A$2:$A$981,""),""))} -> #NAME?
B3: 3 | C3: {=stringconcat(",",IF('Projects Register'!#REF!=3,IF('Projects Register'!#REF!=1,'Projects Register'!$A$2:$A$981,""),""))} -> #NAME? | D3: {=stringconcat(",",IF('Projects Register'!#REF!=3,IF('Projects Register'!#REF!=2,'Projects Register'!$A$2:$A$981,""),""))} -> #NAME? | E3: {=stringconcat(",",IF('Projects Register'!#REF!=3,IF('Projects Register'!#REF!=3,'Projects Register'!$A$2:$A$981,""),""))} -> #NAME? | F3: {=stringconcat(",",IF('Projects Register'!#REF!=3,IF('Projects Register'!#REF!=4,'Projects Register'!$A$2:$A$981,""),""))} -> #NAME?
B4: 2 | C4: {=stringconcat(",",IF('Projects Register'!#REF!=2,IF('Projects Register'!#REF!=1,'Projects Register'!$A$2:$A$981,""),""))} -> #NAME? | D4: {=stringconcat(",",IF('Projects Register'!#REF!=2,IF('Projects Register'!#REF!=2,'Projects Register'!$A$2:$A$981,""),""))} -> #NAME? | E4: {=stringconcat(",",IF('Projects Register'!#REF!=2,IF('Projects Register'!#REF!=3,'Projects Register'!$A$2:$A$981,""),""))} -> #NAME? | F4: {=stringconcat(",",IF('Projects Register'!#REF!=2,IF('Projects Register'!#REF!=4,'Projects Register'!$A$2:$A$981,""),""))} -> #NAME?
B5: 1 | C5: {=stringconcat(",",IF('Projects Register'!#REF!=1,IF('Projects Register'!#REF!=1,'Projects Register'!$A$2:$A$981,""),""))} -> #NAME? | D5: {=stringconcat(",",IF('Projects Register'!#REF!=1,IF('Projects Register'!#REF!=2,'Projects Register'!$A$2:$A$981,""),""))} -> #NAME? | E5: {=stringconcat(",",IF('Projects Register'!#REF!=1,IF('Projects Register'!#REF!=3,'Projects Register'!$A$2:$A$981,""),""))} -> #NAME? | F5: {=stringconcat(",",IF('Projects Register'!#REF!=1,IF('Projects Register'!#REF!=4,'Projects Register'!$A$2:$A$981,""),""))} -> #NAME?
C6: 1 | D6: 2 | E6: 3 | F6: 4
C7: Impact

Sheet Prioritisation Matrix
A2: Το Επείγον του έργου | B2: 4 | C2: 4 | D2: 8 | E2: 12 | F2: 16 | I2: This Project has been funded with support from the European Commission. The European Commission support for the production of this publication does not constitute an endorsement of the contents which reflects the views only of the authors, and the Commission cannot be held responsible for any use which may be made of the information contained therein.
B3: 3 | C3: 3 | D3: 6 | E3: 9 | F3: 12
B4: 2 | C4: 2 | D4: 4 | E4: 6 | F4: 8
B5: 1 | C5: 1 | D5: 2 | E5: 3 | F5: 4
C6: 1 | D6: 2 | E6: 3 | F6: 4
C7: Επίπτωση έργου

Sheet Scales
A1: Το Επείγον του έργου | E1: Επίπτωση έργου
A2: 1 | C2: Χαμηλό | E2: 1 | G2: Μικρή
A3: 2 | C3: Μέτριο | E3: 2 | G3: Μέτρια
A4: 3 | C4: Υψηλό | E4: 3 | G4: Σημαντική
A5: 4 | C5: Κρίσιμο | E5: 4 | G5: Εκτενής
A8: This Project has been funded with support from the European Commission. The European Commission support for the production of this publication does not constitute an endorsement of the contents which reflects the views only of the authors, and the Commission cannot be held responsible for any use which may be made of the information contained therein.
